BEGIN:VCALENDAR
VERSION:2.0
PRODID:-//VMPA e.V. - ECPv6.15.12.2//NONSGML v1.0//EN
CALSCALE:GREGORIAN
METHOD:PUBLISH
X-ORIGINAL-URL:https://www.vmpa.de
X-WR-CALDESC:Veranstaltungen für VMPA e.V.
REFRESH-INTERVAL;VALUE=DURATION:PT1H
X-Robots-Tag:noindex
X-PUBLISHED-TTL:PT1H
BEGIN:VTIMEZONE
TZID:Europe/Berlin
BEGIN:DAYLIGHT
TZOFFSETFROM:+0100
TZOFFSETTO:+0200
TZNAME:CEST
DTSTART:20240331T010000
END:DAYLIGHT
BEGIN:STANDARD
TZOFFSETFROM:+0200
TZOFFSETTO:+0100
TZNAME:CET
DTSTART:20241027T010000
END:STANDARD
BEGIN:DAYLIGHT
TZOFFSETFROM:+0100
TZOFFSETTO:+0200
TZNAME:CEST
DTSTART:20250330T010000
END:DAYLIGHT
BEGIN:STANDARD
TZOFFSETFROM:+0200
TZOFFSETTO:+0100
TZNAME:CET
DTSTART:20251026T010000
END:STANDARD
BEGIN:DAYLIGHT
TZOFFSETFROM:+0100
TZOFFSETTO:+0200
TZNAME:CEST
DTSTART:20260329T010000
END:DAYLIGHT
BEGIN:STANDARD
TZOFFSETFROM:+0200
TZOFFSETTO:+0100
TZNAME:CET
DTSTART:20261025T010000
END:STANDARD
END:VTIMEZONE
BEGIN:VEVENT
DTSTART;TZID=Europe/Berlin:20250902T080000
DTEND;TZID=Europe/Berlin:20250902T170000
DTSTAMP:20260421T184902
CREATED:20241115T092359Z
LAST-MODIFIED:20250816T081438Z
UID:7117-1756800000-1756832400@www.vmpa.de
SUMMARY:(ausgebucht) Ringversuch Erschütterungen
DESCRIPTION:
URL:https://www.vmpa.de/veranstaltung/ringversuch-erschuetterungen-7/
LOCATION:MFPA Leipzig\, Hans-Weigel-Str. 2b\, Leipzig\, Sachsen\, 04319
CATEGORIES:Ringversuch
END:VEVENT
BEGIN:VEVENT
DTSTART;TZID=Europe/Berlin:20250903T080000
DTEND;TZID=Europe/Berlin:20250904T170000
DTSTAMP:20260421T184902
CREATED:20241115T092501Z
LAST-MODIFIED:20250816T081831Z
UID:7119-1756886400-1757005200@www.vmpa.de
SUMMARY:(ausgebucht) Ringversuch Emission/Immission
DESCRIPTION:
URL:https://www.vmpa.de/veranstaltung/ringversuch-emission-immission-9/
LOCATION:MFPA Leipzig\, Hans-Weigel-Str. 2b\, Leipzig\, Sachsen\, 04319
CATEGORIES:Ringversuch
END:VEVENT
BEGIN:VEVENT
DTSTART;TZID=Europe/Berlin:20250903T080000
DTEND;TZID=Europe/Berlin:20250904T170000
DTSTAMP:20260421T184902
CREATED:20241115T092714Z
LAST-MODIFIED:20241115T092717Z
UID:7121-1756886400-1757005200@www.vmpa.de
SUMMARY:Vergleichsmessung Bauakustik
DESCRIPTION:
URL:https://www.vmpa.de/veranstaltung/vergleichsmessung-bauakustik-10/
LOCATION:MFPA Leipzig\, Hans-Weigel-Str. 2b\, Leipzig\, Sachsen\, 04319
CATEGORIES:Vergleichsmessung
END:VEVENT
BEGIN:VEVENT
DTSTART;TZID=Europe/Berlin:20250910T080000
DTEND;TZID=Europe/Berlin:20250910T170000
DTSTAMP:20260421T184902
CREATED:20250320T081004Z
LAST-MODIFIED:20250320T081008Z
UID:7242-1757491200-1757523600@www.vmpa.de
SUMMARY:Ringversuch Raumakustik
DESCRIPTION:Im Jahr 2025 startet der VMPA e.V. gemeinsam mit der Bauhaus-Universität Weimar\, Professur Bauphysik sowie dem Fachausschuss Bau- und Raumakustik der DEGA den Ringversuch Raumakustik\, der allen Messstellen offen steht. Während des Messtages sollen von den Teilnehmenden in vier Räumen der Bauhaus-Universität Weimar raumakustische Kennwerte gemessen werden\, um das normgerechte Messen und die Ergebnisse miteinander zuvergleichen. Neben dem Messen folgender Werte\, steht auch der kollegiale Austausch im Vordergrund:– Nachhallzeit nach DIN EN ISO 3382-2 – sowie raumakustische Parameter nach DIN EN ISO 3382-1 (teilweise optional\, je nach Möglichkeiten der Messstelle)Die genaue Aufgabenstellung wird den Teilnehmenden im Vorfeld übermittelt. Der Messbericht mit den Ergebnissen und den Antworten zu den Vergleichsaufgaben ist zeitnah nach dem Messtag anzufertigen und dem VMPA zu übermitteln.Im Anschluss daran findet ein ausführliches Online-Auswertegespräch zur Diskussion der Messwerte statt.Zudem erhalten alle teilnehmenden Messstellen ein Zertifikat von den Organisatoren und werden auf der VMPA-Webseite als VMPA-anerkannte Raumakustik-Messstelle gelistet. \n\n\n\nFlyer
URL:https://www.vmpa.de/veranstaltung/ringversuch-raumakustik/
LOCATION:Bauhaus-Universität Weimar\, Coudraystraße 11\, Weimar\, 99423\, Germany
CATEGORIES:Ringversuch
END:VEVENT
BEGIN:VEVENT
DTSTART;TZID=Europe/Berlin:20250912T080000
DTEND;TZID=Europe/Berlin:20250912T170000
DTSTAMP:20260421T184902
CREATED:20250320T081131Z
LAST-MODIFIED:20250320T081249Z
UID:7247-1757664000-1757696400@www.vmpa.de
SUMMARY:Ringversuch Raumakustik
DESCRIPTION:Im Jahr 2025 startet der VMPA e.V. gemeinsam mit der Bauhaus-Universität Weimar\, Professur Bauphysik sowie dem Fachausschuss Bau- und Raumakustik der DEGA den Ringversuch Raumakustik\, der allen Messstellen offen steht. Während des Messtages sollen von den Teilnehmenden in vier Räumen der Bauhaus-Universität Weimar raumakustische Kennwerte gemessen werden\, um das normgerechte Messen und die Ergebnisse miteinander zuvergleichen. Neben dem Messen folgender Werte\, steht auch der kollegiale Austausch im Vordergrund:– Nachhallzeit nach DIN EN ISO 3382-2 – sowie raumakustische Parameter nach DIN EN ISO 3382-1 (teilweise optional\, je nach Möglichkeiten der Messstelle)Die genaue Aufgabenstellung wird den Teilnehmenden im Vorfeld übermittelt. Der Messbericht mit den Ergebnissen und den Antworten zu den Vergleichsaufgaben ist zeitnah nach dem Messtag anzufertigen und dem VMPA zu übermitteln.Im Anschluss daran findet ein ausführliches Online-Auswertegespräch zur Diskussion der Messwerte statt.Zudem erhalten alle teilnehmenden Messstellen ein Zertifikat von den Organisatoren und werden auf der VMPA-Webseite als VMPA-anerkannte Raumakustik-Messstelle gelistet. \n\n\n\nFlyer
URL:https://www.vmpa.de/veranstaltung/ringversuch-raumakustik-2/
LOCATION:Bauhaus-Universität Weimar\, Coudraystraße 11\, Weimar\, 99423\, Germany
CATEGORIES:Ringversuch
END:VEVENT
BEGIN:VEVENT
DTSTART;TZID=Europe/Berlin:20250917T090000
DTEND;TZID=Europe/Berlin:20250917T090000
DTSTAMP:20260421T184902
CREATED:20250318T115902Z
LAST-MODIFIED:20250603T105804Z
UID:7237-1758099600-1758099600@www.vmpa.de
SUMMARY:25. Informationsveranstaltung für Schallschutzprüfstellen
DESCRIPTION:
URL:https://www.vmpa.de/veranstaltung/25-informationsveranstaltung-fuer-schallschutzpruefstellen/
LOCATION:PTB Braunschweig\, Bundesallee 100\, Braunschweig\, 38116\, Deutschland
CATEGORIES:Veranstaltung
END:VEVENT
BEGIN:VEVENT
DTSTART;TZID=Europe/Berlin:20250923T080000
DTEND;TZID=Europe/Berlin:20250923T170000
DTSTAMP:20260421T184902
CREATED:20241115T092827Z
LAST-MODIFIED:20241115T092829Z
UID:7123-1758614400-1758646800@www.vmpa.de
SUMMARY:Ringversuch Erschütterungen
DESCRIPTION:
URL:https://www.vmpa.de/veranstaltung/ringversuch-erschuetterungen-8/
LOCATION:MFPA Leipzig\, Hans-Weigel-Str. 2b\, Leipzig\, Sachsen\, 04319
CATEGORIES:Ringversuch
END:VEVENT
BEGIN:VEVENT
DTSTART;TZID=Europe/Berlin:20250924T080000
DTEND;TZID=Europe/Berlin:20250925T170000
DTSTAMP:20260421T184902
CREATED:20241115T092915Z
LAST-MODIFIED:20241115T092917Z
UID:7125-1758700800-1758819600@www.vmpa.de
SUMMARY:Ringversuch Emission/Immission
DESCRIPTION:
URL:https://www.vmpa.de/veranstaltung/ringversuch-emission-immission-10/
LOCATION:MFPA Leipzig\, Hans-Weigel-Str. 2b\, Leipzig\, Sachsen\, 04319
CATEGORIES:Ringversuch
END:VEVENT
BEGIN:VEVENT
DTSTART;TZID=Europe/Berlin:20250924T080000
DTEND;TZID=Europe/Berlin:20250925T170000
DTSTAMP:20260421T184902
CREATED:20241115T092959Z
LAST-MODIFIED:20241115T093003Z
UID:7127-1758700800-1758819600@www.vmpa.de
SUMMARY:Vergleichsmessung Bauakustik
DESCRIPTION:
URL:https://www.vmpa.de/veranstaltung/vergleichsmessung-bauakustik-11/
LOCATION:MFPA Leipzig\, Hans-Weigel-Str. 2b\, Leipzig\, Sachsen\, 04319
CATEGORIES:Vergleichsmessung
END:VEVENT
END:VCALENDAR