BEGIN:VCALENDAR
VERSION:2.0
PRODID:-//VMPA e.V. - ECPv6.15.12.2//NONSGML v1.0//EN
CALSCALE:GREGORIAN
METHOD:PUBLISH
X-ORIGINAL-URL:https://www.vmpa.de
X-WR-CALDESC:Veranstaltungen für VMPA e.V.
REFRESH-INTERVAL;VALUE=DURATION:PT1H
X-Robots-Tag:noindex
X-PUBLISHED-TTL:PT1H
BEGIN:VTIMEZONE
TZID:Europe/Berlin
BEGIN:DAYLIGHT
TZOFFSETFROM:+0100
TZOFFSETTO:+0200
TZNAME:CEST
DTSTART:20230326T010000
END:DAYLIGHT
BEGIN:STANDARD
TZOFFSETFROM:+0200
TZOFFSETTO:+0100
TZNAME:CET
DTSTART:20231029T010000
END:STANDARD
BEGIN:DAYLIGHT
TZOFFSETFROM:+0100
TZOFFSETTO:+0200
TZNAME:CEST
DTSTART:20240331T010000
END:DAYLIGHT
BEGIN:STANDARD
TZOFFSETFROM:+0200
TZOFFSETTO:+0100
TZNAME:CET
DTSTART:20241027T010000
END:STANDARD
BEGIN:DAYLIGHT
TZOFFSETFROM:+0100
TZOFFSETTO:+0200
TZNAME:CEST
DTSTART:20250330T010000
END:DAYLIGHT
BEGIN:STANDARD
TZOFFSETFROM:+0200
TZOFFSETTO:+0100
TZNAME:CET
DTSTART:20251026T010000
END:STANDARD
END:VTIMEZONE
BEGIN:VEVENT
DTSTART;VALUE=DATE:20240903
DTEND;VALUE=DATE:20240904
DTSTAMP:20260422T154358
CREATED:20240530T083344Z
LAST-MODIFIED:20240612T105212Z
UID:6358-1725321600-1725407999@www.vmpa.de
SUMMARY:Ringversuch Erschütterungen
DESCRIPTION:
URL:https://www.vmpa.de/veranstaltung/ringversuch-erschuetterungen-2/
LOCATION:MFPA Leipzig\, Hans-Weigel-Str. 2b\, Leipzig\, Sachsen\, 04319
CATEGORIES:Ringversuch
END:VEVENT
BEGIN:VEVENT
DTSTART;VALUE=DATE:20240904
DTEND;VALUE=DATE:20240906
DTSTAMP:20260422T154358
CREATED:20240530T083403Z
LAST-MODIFIED:20240612T110946Z
UID:6360-1725408000-1725580799@www.vmpa.de
SUMMARY:Vergleichsmessung Bauakustik
DESCRIPTION:
URL:https://www.vmpa.de/veranstaltung/vergleichsmessung-bauakustik-4/
LOCATION:MFPA Leipzig\, Hans-Weigel-Str. 2b\, Leipzig\, Sachsen\, 04319
CATEGORIES:Ringversuch,Vergleichsmessung
END:VEVENT
BEGIN:VEVENT
DTSTART;VALUE=DATE:20240904
DTEND;VALUE=DATE:20240906
DTSTAMP:20260422T154358
CREATED:20240530T083422Z
LAST-MODIFIED:20240530T083643Z
UID:6362-1725408000-1725580799@www.vmpa.de
SUMMARY:Ringversuch Emission/Immission
DESCRIPTION:
URL:https://www.vmpa.de/veranstaltung/ringversuch-emission-immission-4/
LOCATION:MFPA Leipzig\, Hans-Weigel-Str. 2b\, Leipzig\, Sachsen\, 04319
CATEGORIES:Ringversuch
END:VEVENT
BEGIN:VEVENT
DTSTART;VALUE=DATE:20240910
DTEND;VALUE=DATE:20240911
DTSTAMP:20260422T154358
CREATED:20240530T083820Z
LAST-MODIFIED:20241022T082259Z
UID:6372-1725926400-1726012799@www.vmpa.de
SUMMARY:Fachkommission Schall in Braunschweig
DESCRIPTION:
URL:https://www.vmpa.de/veranstaltung/fachkommission-schall-in-braunschweig/
CATEGORIES:Sitzungstermin
END:VEVENT
BEGIN:VEVENT
DTSTART;TZID=Europe/Berlin:20240911T100000
DTEND;TZID=Europe/Berlin:20240911T170000
DTSTAMP:20260422T154358
CREATED:20240528T122854Z
LAST-MODIFIED:20240905T081007Z
UID:6270-1726048800-1726074000@www.vmpa.de
SUMMARY:24. Infoveranstaltung für Schallschutzprüfstellen
DESCRIPTION:Die 24. Informationsveranstaltung für Schallschutzprüfstellen von DEGA\, PTB und VMPA findet am 11.09.2024 in der PTB Braunschweig und online als Hybridveranstaltung statt.Folgende Themen erwarten Sie:– Vergleichsmessungen der Prüfstellen erste Ergebnisse– Aktuelles aus der internationalen Normung– DEGA/VDI-Richtlinie 4100– DIN 4109: Aktuelle Auslegungsfragen und wie geht’s weiter?– Gebäudetyp E und reduzierte Anforderungen – sinnvolle Richtung oder unsinnige Fehlentwicklung?– Vermeidung der akustischen Lästigkeit von Luft-Wasser-Wärmepumpen– Holzbalkendecken mit zementöser Schüttung– Prüfstellen – Zukunft & Generationswechsel– Einige Aspekte und Bedeutung v. Einmassen-Schwinger in der Akustik– Fenstermessungen– Einfluss von Einbaudosen in GK-Mietertrennwänden \n\n\n\nHier finden Sie das vollständige Programm inkl. Teilnahmegebühren.Anmeldungen nehmen Sie bitte in der folgenden Maske vor. \n\n\n\n                    Anmeldeformular - Infoveranstaltung Schallschutz 24AnredeTitelNameE-Mail (Teilnehmer)InstitutionAdresseStraße und HausnummerAdresszeile 2 (optional)StadtBundeslandPostleitzahlLandLand auswählenAfghanistanAlbanienAlgerienAmerikanisch-SamoaAmerikanische JungferninselnAndorraAngolaAnguillaAntarktikaAntigua und BarbudaArgentinienArmenienArubaAserbaidschanAustralienBahamasBahrainBangladeschBarbadosBelarusBelauBelgienBelizeBeninBermudaBhutanBolivienBonaire\, Sint Eustatius und SabaBosnien und HerzegowinaBotswanaBouvetinselBrasilienBritische JungferninselnBritisches Territorium im Indischen OzeanBruneiBulgarienBurkina FasoBurundiChileChinaCookinselnCosta RicaCuraçaoDemocratic Republic of the Congo (Kinshasa)DeutschlandDominicaDominikanische RepublikDschibutiDänemarkEcuadorEl SalvadorElfenbeinküsteEritreaEstlandEswatiniFalklandinselnFidschiFinnlandFrankreichFranzösisch-GuayanaFranzösisch-PolynesienFranzösische Süd- und AntarktisgebieteFäröerGabunGambiaGeorgienGhanaGibraltarGrenadaGriechenlandGrönlandGuadeloupeGuamGuatemalaGuernseyGuineaGuinea-BissauGuyanaHaitiHeard und McDonaldinselnHondurasHongkongIndienIndonesienIrakIranIrlandIslandIsle of ManIsraelItalienJamaikaJapanJemenJerseyJordanienKaimaninselnKambodschaKamerunKanadaKap VerdeKasachstanKatarKeniaKirgisistanKiribatiKokosinseln (Keelinginseln)KolumbienKomorenKosovoKroatienKubaKuwaitLaosLesothoLettlandLibanonLiberiaLibyenLiechtensteinLitauenLuxemburgMacao\, ChinaMadagaskarMalawiMalaysiaMaledivenMaliMaltaMarokkoMarshallinselnMartiniqueMauretanienMauritiusMayotteMexikoMikronesienMoldauMonacoMongoleiMontenegroMontserratMosambikMyanmarNamibiaNauruNepalNeukaledonienNeuseelandNicaraguaNiederlandeNigerNigeriaNiueNordkoreaNordmazedonienNorfolkinselNorwegenNördliche MarianenOmanOsttimorPakistanPalästinensische AutonomiegebietePanamaPapua-NeuguineaParaguayPeruPhilippinenPitcairninselnPolenPortugalPuerto RicoRepublic of the Congo (Brazzaville)RuandaRumänienRusslandRéunionSaint BarthélemySaint-Pierre und MiquelonSalomonenSambiaSamoaSan MarinoSao Tome and PrincipeSaudi-ArabienSchwedenSchweizSenegalSerbienSeychellenSierra LeoneSimbabweSingapurSlowakeiSlowenienSomaliaSpanienSpitzbergen und Jan MayenSri LankaSt. HelenaSt. Kitts und NevisSt. LuciaSt. Martin (Frankreich)St. Martin (Niederlande)St. Vincent und die GrenadinenSudanSurinamSyrienSüdafrikaSüdgeorgien/SandwichinselnSüdkoreaSüdsudanTadschikistanTaiwanTansaniaThailandTogoTokelauTongaTrinidad und TobagoTschadTschechienTunesienTurkmenistanTurks- und CaicosinselnTuvaluTürkiyeUgandaUkraineUngarnUnited States (US) Minor Outlying IslandsUruguayUsbekistanVanuatuVatikanstadtVenezuelaVereinigte Arabische EmirateVereinigte Staaten von Amerika (USA)Vereinigtes KönigreichVietnamWallis und FutunaWeihnachtsinselWestsaharaZentralafrikanische RepublikZypernÄgyptenÄquatorialguineaÄthiopienÅlandinselnÖsterreichTeilnahme gewünscht? Online Vor OrtRechnungsadresse Abweichende Rechnungsadresse eingeben?Institution (Rechnungsempfänger)Name (Rechnungsempfänger)E-Mail (Rechnungsempfänger)RechnungsadresseStraße und HausnummerAdresszeile 2 (optional)StadtBundeslandPostleitzahlLandLand auswählenAfghanistanAlbanienAlgerienAmerikanisch-SamoaAmerikanische JungferninselnAndorraAngolaAnguillaAntarktikaAntigua und BarbudaArgentinienArmenienArubaAserbaidschanAustralienBahamasBahrainBangladeschBarbadosBelarusBelauBelgienBelizeBeninBermudaBhutanBolivienBonaire\, Sint Eustatius und SabaBosnien und HerzegowinaBotswanaBouvetinselBrasilienBritische JungferninselnBritisches Territorium im Indischen OzeanBruneiBulgarienBurkina FasoBurundiChileChinaCookinselnCosta RicaCuraçaoDemocratic Republic of the Congo (Kinshasa)DeutschlandDominicaDominikanische RepublikDschibutiDänemarkEcuadorEl SalvadorElfenbeinküsteEritreaEstlandEswatiniFalklandinselnFidschiFinnlandFrankreichFranzösisch-GuayanaFranzösisch-PolynesienFranzösische Süd- und AntarktisgebieteFäröerGabunGambiaGeorgienGhanaGibraltarGrenadaGriechenlandGrönlandGuadeloupeGuamGuatemalaGuernseyGuineaGuinea-BissauGuyanaHaitiHeard und McDonaldinselnHondurasHongkongIndienIndonesienIrakIranIrlandIslandIsle of ManIsraelItalienJamaikaJapanJemenJerseyJordanienKaimaninselnKambodschaKamerunKanadaKap VerdeKasachstanKatarKeniaKirgisistanKiribatiKokosinseln (Keelinginseln)KolumbienKomorenKosovoKroatienKubaKuwaitLaosLesothoLettlandLibanonLiberiaLibyenLiechtensteinLitauenLuxemburgMacao\, ChinaMadagaskarMalawiMalaysiaMaledivenMaliMaltaMarokkoMarshallinselnMartiniqueMauretanienMauritiusMayotteMexikoMikronesienMoldauMonacoMongoleiMontenegroMontserratMosambikMyanmarNamibiaNauruNepalNeukaledonienNeuseelandNicaraguaNiederlandeNigerNigeriaNiueNordkoreaNordmazedonienNorfolkinselNorwegenNördliche MarianenOmanOsttimorPakistanPalästinensische AutonomiegebietePanamaPapua-NeuguineaParaguayPeruPhilippinenPitcairninselnPolenPortugalPuerto RicoRepublic of the Congo (Brazzaville)RuandaRumänienRusslandRéunionSaint BarthélemySaint-Pierre und MiquelonSalomonenSambiaSamoaSan MarinoSao Tome and PrincipeSaudi-ArabienSchwedenSchweizSenegalSerbienSeychellenSierra LeoneSimbabweSingapurSlowakeiSlowenienSomaliaSpanienSpitzbergen und Jan MayenSri LankaSt. HelenaSt. Kitts und NevisSt. LuciaSt. Martin (Frankreich)St. Martin (Niederlande)St. Vincent und die GrenadinenSudanSurinamSyrienSüdafrikaSüdgeorgien/SandwichinselnSüdkoreaSüdsudanTadschikistanTaiwanTansaniaThailandTogoTokelauTongaTrinidad und TobagoTschadTschechienTunesienTurkmenistanTurks- und CaicosinselnTuvaluTürkiyeUgandaUkraineUngarnUnited States (US) Minor Outlying IslandsUruguayUsbekistanVanuatuVatikanstadtVenezuelaVereinigte Arabische EmirateVereinigte Staaten von Amerika (USA)Vereinigtes KönigreichVietnamWallis und FutunaWeihnachtsinselWestsaharaZentralafrikanische RepublikZypernÄgyptenÄquatorialguineaÄthiopienÅlandinselnÖsterreichIhre Nachricht (optional) Hiermit melde ich mich verbindlich zu o. g. Veranstaltung an. Ich bin damit einverstanden\, dass meine Daten von den Veranstaltern gespeichert werden. Formular absenden
URL:https://www.vmpa.de/veranstaltung/24-veranstaltung-fuer-schallschutzpruefstellen/
LOCATION:PTB Braunschweig\, Bundesallee 100\, Braunschweig\, 38116\, Deutschland
CATEGORIES:Veranstaltung
END:VEVENT
BEGIN:VEVENT
DTSTART;TZID=Europe/Berlin:20240924T000000
DTEND;TZID=Europe/Berlin:20240924T235959
DTSTAMP:20260422T154358
CREATED:20240612T110609Z
LAST-MODIFIED:20240612T110612Z
UID:6886-1727136000-1727222399@www.vmpa.de
SUMMARY:Ringversuch Erschütterungen
DESCRIPTION:
URL:https://www.vmpa.de/veranstaltung/ringversuch-erschuetterungen-4/
LOCATION:MFPA Leipzig\, Hans-Weigel-Str. 2b\, Leipzig\, Sachsen\, 04319
CATEGORIES:Ringversuch
END:VEVENT
BEGIN:VEVENT
DTSTART;VALUE=DATE:20240925
DTEND;VALUE=DATE:20240927
DTSTAMP:20260422T154358
CREATED:20240530T083453Z
LAST-MODIFIED:20240612T080624Z
UID:6366-1727222400-1727395199@www.vmpa.de
SUMMARY:Vergleichsmessung Bauakustik
DESCRIPTION:
URL:https://www.vmpa.de/veranstaltung/vergleichsmessung-bauakustik-5/
LOCATION:MFPA Leipzig\, Hans-Weigel-Str. 2b\, Leipzig\, Sachsen\, 04319
CATEGORIES:Ringversuch,Vergleichsmessung
END:VEVENT
BEGIN:VEVENT
DTSTART;VALUE=DATE:20240925
DTEND;VALUE=DATE:20240927
DTSTAMP:20260422T154358
CREATED:20240530T083515Z
LAST-MODIFIED:20240613T105339Z
UID:6368-1727222400-1727395199@www.vmpa.de
SUMMARY:Ringversuch Emission/Immission
DESCRIPTION:
URL:https://www.vmpa.de/veranstaltung/ringversuch-emission-immission-5/
LOCATION:MFPA Leipzig\, Hans-Weigel-Str. 2b\, Leipzig\, Sachsen\, 04319
CATEGORIES:Ringversuch
END:VEVENT
END:VCALENDAR