BEGIN:VCALENDAR
VERSION:2.0
PRODID:-//VMPA e.V. - ECPv6.15.12.2//NONSGML v1.0//EN
CALSCALE:GREGORIAN
METHOD:PUBLISH
X-ORIGINAL-URL:https://www.vmpa.de
X-WR-CALDESC:Veranstaltungen für VMPA e.V.
REFRESH-INTERVAL;VALUE=DURATION:PT1H
X-Robots-Tag:noindex
X-PUBLISHED-TTL:PT1H
BEGIN:VTIMEZONE
TZID:Europe/Berlin
BEGIN:DAYLIGHT
TZOFFSETFROM:+0100
TZOFFSETTO:+0200
TZNAME:CEST
DTSTART:20230326T010000
END:DAYLIGHT
BEGIN:STANDARD
TZOFFSETFROM:+0200
TZOFFSETTO:+0100
TZNAME:CET
DTSTART:20231029T010000
END:STANDARD
BEGIN:DAYLIGHT
TZOFFSETFROM:+0100
TZOFFSETTO:+0200
TZNAME:CEST
DTSTART:20240331T010000
END:DAYLIGHT
BEGIN:STANDARD
TZOFFSETFROM:+0200
TZOFFSETTO:+0100
TZNAME:CET
DTSTART:20241027T010000
END:STANDARD
BEGIN:DAYLIGHT
TZOFFSETFROM:+0100
TZOFFSETTO:+0200
TZNAME:CEST
DTSTART:20250330T010000
END:DAYLIGHT
BEGIN:STANDARD
TZOFFSETFROM:+0200
TZOFFSETTO:+0100
TZNAME:CET
DTSTART:20251026T010000
END:STANDARD
END:VTIMEZONE
BEGIN:VEVENT
DTSTART;VALUE=DATE:20240821
DTEND;VALUE=DATE:20240823
DTSTAMP:20260422T174113
CREATED:20240530T083245Z
LAST-MODIFIED:20240530T083707Z
UID:6352-1724198400-1724371199@www.vmpa.de
SUMMARY:Ringversuch Emission/Immission
DESCRIPTION:
URL:https://www.vmpa.de/veranstaltung/ringversuch-emission-immission-2/
LOCATION:MFPA Leipzig\, Hans-Weigel-Str. 2b\, Leipzig\, Sachsen\, 04319
CATEGORIES:Ringversuch
END:VEVENT
BEGIN:VEVENT
DTSTART;TZID=Europe/Berlin:20240821T120000
DTEND;TZID=Europe/Berlin:20240822T120000
DTSTAMP:20260422T174113
CREATED:20240612T111205Z
LAST-MODIFIED:20240612T111211Z
UID:6891-1724241600-1724328000@www.vmpa.de
SUMMARY:Vergleichsmessung Bauakustik
DESCRIPTION:
URL:https://www.vmpa.de/veranstaltung/vergleichsmessung-bauakustik-6/
LOCATION:MFPA Leipzig\, Hans-Weigel-Str. 2b\, Leipzig\, Sachsen\, 04319
CATEGORIES:Ringversuch,Vergleichsmessung
END:VEVENT
BEGIN:VEVENT
DTSTART;VALUE=DATE:20240828
DTEND;VALUE=DATE:20240830
DTSTAMP:20260422T174113
CREATED:20240530T083306Z
LAST-MODIFIED:20240612T081259Z
UID:6354-1724803200-1724975999@www.vmpa.de
SUMMARY:Vergleichsmessung Bauakustik
DESCRIPTION:
URL:https://www.vmpa.de/veranstaltung/vergleichsmessung-bauakustik-3/
LOCATION:MFPA Leipzig\, Hans-Weigel-Str. 2b\, Leipzig\, Sachsen\, 04319
CATEGORIES:Ringversuch,Vergleichsmessung
END:VEVENT
BEGIN:VEVENT
DTSTART;VALUE=DATE:20240828
DTEND;VALUE=DATE:20240830
DTSTAMP:20260422T174113
CREATED:20240530T083327Z
LAST-MODIFIED:20240530T083658Z
UID:6356-1724803200-1724975999@www.vmpa.de
SUMMARY:Ringversuch Emission/Immission
DESCRIPTION:
URL:https://www.vmpa.de/veranstaltung/ringversuch-emission-immission-3/
LOCATION:MFPA Leipzig\, Hans-Weigel-Str. 2b\, Leipzig\, Sachsen\, 04319
CATEGORIES:Ringversuch
END:VEVENT
END:VCALENDAR