BEGIN:VCALENDAR
VERSION:2.0
PRODID:-//VMPA e.V. - ECPv6.15.12.2//NONSGML v1.0//EN
CALSCALE:GREGORIAN
METHOD:PUBLISH
X-ORIGINAL-URL:https://www.vmpa.de
X-WR-CALDESC:Veranstaltungen für VMPA e.V.
REFRESH-INTERVAL;VALUE=DURATION:PT1H
X-Robots-Tag:noindex
X-PUBLISHED-TTL:PT1H
BEGIN:VTIMEZONE
TZID:Europe/Berlin
BEGIN:DAYLIGHT
TZOFFSETFROM:+0100
TZOFFSETTO:+0200
TZNAME:CEST
DTSTART:20230326T010000
END:DAYLIGHT
BEGIN:STANDARD
TZOFFSETFROM:+0200
TZOFFSETTO:+0100
TZNAME:CET
DTSTART:20231029T010000
END:STANDARD
BEGIN:DAYLIGHT
TZOFFSETFROM:+0100
TZOFFSETTO:+0200
TZNAME:CEST
DTSTART:20240331T010000
END:DAYLIGHT
BEGIN:STANDARD
TZOFFSETFROM:+0200
TZOFFSETTO:+0100
TZNAME:CET
DTSTART:20241027T010000
END:STANDARD
BEGIN:DAYLIGHT
TZOFFSETFROM:+0100
TZOFFSETTO:+0200
TZNAME:CEST
DTSTART:20250330T010000
END:DAYLIGHT
BEGIN:STANDARD
TZOFFSETFROM:+0200
TZOFFSETTO:+0100
TZNAME:CET
DTSTART:20251026T010000
END:STANDARD
END:VTIMEZONE
BEGIN:VEVENT
DTSTART;VALUE=DATE:20240604
DTEND;VALUE=DATE:20240605
DTSTAMP:20260423T002733
CREATED:20240530T083033Z
LAST-MODIFIED:20240530T083716Z
UID:6344-1717459200-1717545599@www.vmpa.de
SUMMARY:Ringversuch Erschütterungen
DESCRIPTION:
URL:https://www.vmpa.de/veranstaltung/ringversuch-erschuetterungen/
LOCATION:MFPA Leipzig\, Hans-Weigel-Str. 2b\, Leipzig\, Sachsen\, 04319
CATEGORIES:Ringversuch
END:VEVENT
BEGIN:VEVENT
DTSTART;TZID=Europe/Berlin:20240604T120000
DTEND;TZID=Europe/Berlin:20240604T163000
DTSTAMP:20260423T002733
CREATED:20240528T122754Z
LAST-MODIFIED:20240530T091342Z
UID:6266-1717502400-1717518600@www.vmpa.de
SUMMARY:Thementag „Zukunft des Bauwesens: Nachhaltigkeit und neue Materialien“
DESCRIPTION:Weitere Informationen und das vorläufige Programm finden Sie in unserem Info-Flyer.
URL:https://www.vmpa.de/veranstaltung/thementag-zukunft-des-bauwesens-nachhaltigkeit-und-neue-materialien/
LOCATION:Gastdozentenhaus am Karlsruher Institut für Technologie\, Engesserstrasse 3\, KARLSRUHE\, Karlsruhe\, 76131\, Deutschland
CATEGORIES:Veranstaltung
END:VEVENT
END:VCALENDAR